BEGIN:VCALENDAR
VERSION:2.0
PRODID:-//Travel Crested Butte - ECPv6.15.17.1//NONSGML v1.0//EN
CALSCALE:GREGORIAN
METHOD:PUBLISH
X-WR-CALNAME:Travel Crested Butte
X-ORIGINAL-URL:https://travelcrestedbutte.com
X-WR-CALDESC:Events for Travel Crested Butte
REFRESH-INTERVAL;VALUE=DURATION:PT1H
X-Robots-Tag:noindex
X-PUBLISHED-TTL:PT1H
BEGIN:VTIMEZONE
TZID:America/Denver
BEGIN:DAYLIGHT
TZOFFSETFROM:-0700
TZOFFSETTO:-0600
TZNAME:MDT
DTSTART:20250309T090000
END:DAYLIGHT
BEGIN:STANDARD
TZOFFSETFROM:-0600
TZOFFSETTO:-0700
TZNAME:MST
DTSTART:20251102T080000
END:STANDARD
BEGIN:DAYLIGHT
TZOFFSETFROM:-0700
TZOFFSETTO:-0600
TZNAME:MDT
DTSTART:20260308T090000
END:DAYLIGHT
BEGIN:STANDARD
TZOFFSETFROM:-0600
TZOFFSETTO:-0700
TZNAME:MST
DTSTART:20261101T080000
END:STANDARD
BEGIN:DAYLIGHT
TZOFFSETFROM:-0700
TZOFFSETTO:-0600
TZNAME:MDT
DTSTART:20270314T090000
END:DAYLIGHT
BEGIN:STANDARD
TZOFFSETFROM:-0600
TZOFFSETTO:-0700
TZNAME:MST
DTSTART:20271107T080000
END:STANDARD
END:VTIMEZONE
BEGIN:VEVENT
DTSTART;TZID=America/Denver:20260520T180000
DTEND;TZID=America/Denver:20260520T200000
DTSTAMP:20260423T212840
CREATED:20250429T172545Z
LAST-MODIFIED:20260423T151103Z
UID:10004177-1779300000-1779307200@travelcrestedbutte.com
SUMMARY:Cookbook Club: Listen To Your Vegetables
DESCRIPTION:Discover the magic of making more with less at our community potluck inspired by Something from Nothing: A Cookbook by Alison Roman! This collection celebrates the art of cooking with what you have—turning pantry staples and everyday ingredients into dishes that feel abundant\, satisfying\, and full of flavor. Pick up a copy at Townie Books or borrow ours\, sign up for a dish\, and bring your creation to share. Together\, we’ll discover how a little creativity in the kitchen can turn the simplest ingredients into a feast worth remembering. \nTickets & Info
URL:https://travelcrestedbutte.com/events-calendar/cookbook-club-listen-to-your-vegetables/
LOCATION:CO
CATEGORIES:Food & Drink
ATTACH;FMTTYPE=image/webp:https://travelcrestedbutte.com/wp-content/uploads/2025/04/cookbookclub-centerforthearts-crestedbutte.webp
END:VEVENT
BEGIN:VEVENT
DTSTART;VALUE=DATE:20260521
DTEND;VALUE=DATE:20260525
DTSTAMP:20260423T212840
CREATED:20230322T202816Z
LAST-MODIFIED:20260319T152741Z
UID:10000696-1779321600-1779667199@travelcrestedbutte.com
SUMMARY:Mountain Words Literary Festival
DESCRIPTION:The Mountain Words Festival is a multi-day literary celebration at nine-thousand feet\, featuring readings\, workshops\, kids’ events\, parties\, panel discussions\, live theater\, and more. \n2025 authors and presenters included Karen Russell\, Deborah Jackson Taffa\, Ben Goldfarb\, Shelley Read\, Hillary Leftwich\, Doug Kurtz\, Ramona Ausubel\, Kevin Grange\, Olivia Chadha\, David Wroblewski\, Paolo Bacigalupi\, Rebecca Boyle\, Ernest Scheyder\, Rajiv Mohabir\, Leah Sottile\, Elizabeth Gonzalez James\, Laura Krantz\, Teow Lim Goh\, Will Cockrell\, Michael Engelhard\, Erica Reid\, Jonathan P. Thomspson\, and Dan Manzanares. \nTwitter | @MtnWords \n  \nTickets &  Info \n  \n\n  \n  \n 
URL:https://travelcrestedbutte.com/events-calendar/mountain-words-literary-festival-2/
LOCATION:Center for the Arts\, 606 6th St.\, Crested Butte\, CO\, 81224\, United States
CATEGORIES:The Arts
ATTACH;FMTTYPE=image/png:https://travelcrestedbutte.com/wp-content/uploads/2023/03/MWF-Logo-Lockup-Black.png
GEO:38.8677015;-106.9800884
X-APPLE-STRUCTURED-LOCATION;VALUE=URI;X-ADDRESS=Center for the Arts 606 6th St. Crested Butte CO 81224 United States;X-APPLE-RADIUS=500;X-TITLE=606 6th St.:geo:-106.9800884,38.8677015
END:VEVENT
END:VCALENDAR