BEGIN:VCALENDAR
VERSION:2.0
PRODID:-//Travel Crested Butte - ECPv6.15.17.1//NONSGML v1.0//EN
CALSCALE:GREGORIAN
METHOD:PUBLISH
X-WR-CALNAME:Travel Crested Butte
X-ORIGINAL-URL:https://travelcrestedbutte.com
X-WR-CALDESC:Events for Travel Crested Butte
REFRESH-INTERVAL;VALUE=DURATION:PT1H
X-Robots-Tag:noindex
X-PUBLISHED-TTL:PT1H
BEGIN:VTIMEZONE
TZID:America/Denver
BEGIN:DAYLIGHT
TZOFFSETFROM:-0700
TZOFFSETTO:-0600
TZNAME:MDT
DTSTART:20250309T090000
END:DAYLIGHT
BEGIN:STANDARD
TZOFFSETFROM:-0600
TZOFFSETTO:-0700
TZNAME:MST
DTSTART:20251102T080000
END:STANDARD
BEGIN:DAYLIGHT
TZOFFSETFROM:-0700
TZOFFSETTO:-0600
TZNAME:MDT
DTSTART:20260308T090000
END:DAYLIGHT
BEGIN:STANDARD
TZOFFSETFROM:-0600
TZOFFSETTO:-0700
TZNAME:MST
DTSTART:20261101T080000
END:STANDARD
BEGIN:DAYLIGHT
TZOFFSETFROM:-0700
TZOFFSETTO:-0600
TZNAME:MDT
DTSTART:20270314T090000
END:DAYLIGHT
BEGIN:STANDARD
TZOFFSETFROM:-0600
TZOFFSETTO:-0700
TZNAME:MST
DTSTART:20271107T080000
END:STANDARD
END:VTIMEZONE
BEGIN:VEVENT
DTSTART;TZID=America/Denver:20260623T173000
DTEND;TZID=America/Denver:20260623T193000
DTSTAMP:20260423T162824
CREATED:20250515T182041Z
LAST-MODIFIED:20260423T154556Z
UID:10005506-1782235800-1782243000@travelcrestedbutte.com
SUMMARY:Summer Classics in the Courtyard
DESCRIPTION:The Center for the Arts presents Summer Classics\, a free outdoor concert series takes place Tuesday evenings at 5:30pm from mid-June through mid-August in the Center’s Feldberg Courtyard. \nWith Crested Butte Mountain and Paradise Divide as the backdrop\, it’s the perfect respite to enjoy the sounds of a variety of music\, surrounded by family and friends. Chairs are provided. Snacks (or a complete picnic) and non-alcoholic beverages are welcome. Join friends and family as we enjoy the best that summer in Crested Butte has to offer. \n6 | 23  The Devil’s Horn: A Celebration of the Saxophone\n6 | 30  Quartz Alley Combo\n7 | 7    Acoustic Eidolon\n7 | 14   National Repertory Orchestra\n7 | 21   Hiroya Tsukamoto\n7 | 28   The CopyCats Concert\n8 | 4     Cowboy Songs\n8 | 11    Junwen Liang
URL:https://travelcrestedbutte.com/events-calendar/summer-classics-in-the-courtyard-chantil-and-the-dukes-of-art/2026-06-23/
LOCATION:Center for the Arts\, 606 6th St.\, Crested Butte\, CO\, 81224\, United States
CATEGORIES:Music
ATTACH;FMTTYPE=image/webp:https://travelcrestedbutte.com/wp-content/uploads/2025/05/summerclassicscourtyard-crested-butte.webp
GEO:38.8677015;-106.9800884
X-APPLE-STRUCTURED-LOCATION;VALUE=URI;X-ADDRESS=Center for the Arts 606 6th St. Crested Butte CO 81224 United States;X-APPLE-RADIUS=500;X-TITLE=606 6th St.:geo:-106.9800884,38.8677015
END:VEVENT
BEGIN:VEVENT
DTSTART;TZID=America/Denver:20260630T173000
DTEND;TZID=America/Denver:20260630T193000
DTSTAMP:20260423T162824
CREATED:20250515T182041Z
LAST-MODIFIED:20260423T154556Z
UID:10005507-1782840600-1782847800@travelcrestedbutte.com
SUMMARY:Summer Classics in the Courtyard
DESCRIPTION:The Center for the Arts presents Summer Classics\, a free outdoor concert series takes place Tuesday evenings at 5:30pm from mid-June through mid-August in the Center’s Feldberg Courtyard. \nWith Crested Butte Mountain and Paradise Divide as the backdrop\, it’s the perfect respite to enjoy the sounds of a variety of music\, surrounded by family and friends. Chairs are provided. Snacks (or a complete picnic) and non-alcoholic beverages are welcome. Join friends and family as we enjoy the best that summer in Crested Butte has to offer. \n6 | 23  The Devil’s Horn: A Celebration of the Saxophone\n6 | 30  Quartz Alley Combo\n7 | 7    Acoustic Eidolon\n7 | 14   National Repertory Orchestra\n7 | 21   Hiroya Tsukamoto\n7 | 28   The CopyCats Concert\n8 | 4     Cowboy Songs\n8 | 11    Junwen Liang
URL:https://travelcrestedbutte.com/events-calendar/summer-classics-in-the-courtyard-chantil-and-the-dukes-of-art/2026-06-30/
LOCATION:Center for the Arts\, 606 6th St.\, Crested Butte\, CO\, 81224\, United States
CATEGORIES:Music
ATTACH;FMTTYPE=image/webp:https://travelcrestedbutte.com/wp-content/uploads/2025/05/summerclassicscourtyard-crested-butte.webp
GEO:38.8677015;-106.9800884
X-APPLE-STRUCTURED-LOCATION;VALUE=URI;X-ADDRESS=Center for the Arts 606 6th St. Crested Butte CO 81224 United States;X-APPLE-RADIUS=500;X-TITLE=606 6th St.:geo:-106.9800884,38.8677015
END:VEVENT
BEGIN:VEVENT
DTSTART;TZID=America/Denver:20260707T173000
DTEND;TZID=America/Denver:20260707T193000
DTSTAMP:20260423T162824
CREATED:20250515T182041Z
LAST-MODIFIED:20260423T154556Z
UID:10005508-1783445400-1783452600@travelcrestedbutte.com
SUMMARY:Summer Classics in the Courtyard
DESCRIPTION:The Center for the Arts presents Summer Classics\, a free outdoor concert series takes place Tuesday evenings at 5:30pm from mid-June through mid-August in the Center’s Feldberg Courtyard. \nWith Crested Butte Mountain and Paradise Divide as the backdrop\, it’s the perfect respite to enjoy the sounds of a variety of music\, surrounded by family and friends. Chairs are provided. Snacks (or a complete picnic) and non-alcoholic beverages are welcome. Join friends and family as we enjoy the best that summer in Crested Butte has to offer. \n6 | 23  The Devil’s Horn: A Celebration of the Saxophone\n6 | 30  Quartz Alley Combo\n7 | 7    Acoustic Eidolon\n7 | 14   National Repertory Orchestra\n7 | 21   Hiroya Tsukamoto\n7 | 28   The CopyCats Concert\n8 | 4     Cowboy Songs\n8 | 11    Junwen Liang
URL:https://travelcrestedbutte.com/events-calendar/summer-classics-in-the-courtyard-chantil-and-the-dukes-of-art/2026-07-07/
LOCATION:Center for the Arts\, 606 6th St.\, Crested Butte\, CO\, 81224\, United States
CATEGORIES:Music
ATTACH;FMTTYPE=image/webp:https://travelcrestedbutte.com/wp-content/uploads/2025/05/summerclassicscourtyard-crested-butte.webp
GEO:38.8677015;-106.9800884
X-APPLE-STRUCTURED-LOCATION;VALUE=URI;X-ADDRESS=Center for the Arts 606 6th St. Crested Butte CO 81224 United States;X-APPLE-RADIUS=500;X-TITLE=606 6th St.:geo:-106.9800884,38.8677015
END:VEVENT
BEGIN:VEVENT
DTSTART;TZID=America/Denver:20260714T173000
DTEND;TZID=America/Denver:20260714T193000
DTSTAMP:20260423T162824
CREATED:20250515T182041Z
LAST-MODIFIED:20260423T154556Z
UID:10005509-1784050200-1784057400@travelcrestedbutte.com
SUMMARY:Summer Classics in the Courtyard
DESCRIPTION:The Center for the Arts presents Summer Classics\, a free outdoor concert series takes place Tuesday evenings at 5:30pm from mid-June through mid-August in the Center’s Feldberg Courtyard. \nWith Crested Butte Mountain and Paradise Divide as the backdrop\, it’s the perfect respite to enjoy the sounds of a variety of music\, surrounded by family and friends. Chairs are provided. Snacks (or a complete picnic) and non-alcoholic beverages are welcome. Join friends and family as we enjoy the best that summer in Crested Butte has to offer. \n6 | 23  The Devil’s Horn: A Celebration of the Saxophone\n6 | 30  Quartz Alley Combo\n7 | 7    Acoustic Eidolon\n7 | 14   National Repertory Orchestra\n7 | 21   Hiroya Tsukamoto\n7 | 28   The CopyCats Concert\n8 | 4     Cowboy Songs\n8 | 11    Junwen Liang
URL:https://travelcrestedbutte.com/events-calendar/summer-classics-in-the-courtyard-chantil-and-the-dukes-of-art/2026-07-14/
LOCATION:Center for the Arts\, 606 6th St.\, Crested Butte\, CO\, 81224\, United States
CATEGORIES:Music
ATTACH;FMTTYPE=image/webp:https://travelcrestedbutte.com/wp-content/uploads/2025/05/summerclassicscourtyard-crested-butte.webp
GEO:38.8677015;-106.9800884
X-APPLE-STRUCTURED-LOCATION;VALUE=URI;X-ADDRESS=Center for the Arts 606 6th St. Crested Butte CO 81224 United States;X-APPLE-RADIUS=500;X-TITLE=606 6th St.:geo:-106.9800884,38.8677015
END:VEVENT
BEGIN:VEVENT
DTSTART;TZID=America/Denver:20260721T173000
DTEND;TZID=America/Denver:20260721T193000
DTSTAMP:20260423T162824
CREATED:20250515T182041Z
LAST-MODIFIED:20260423T154556Z
UID:10005510-1784655000-1784662200@travelcrestedbutte.com
SUMMARY:Summer Classics in the Courtyard
DESCRIPTION:The Center for the Arts presents Summer Classics\, a free outdoor concert series takes place Tuesday evenings at 5:30pm from mid-June through mid-August in the Center’s Feldberg Courtyard. \nWith Crested Butte Mountain and Paradise Divide as the backdrop\, it’s the perfect respite to enjoy the sounds of a variety of music\, surrounded by family and friends. Chairs are provided. Snacks (or a complete picnic) and non-alcoholic beverages are welcome. Join friends and family as we enjoy the best that summer in Crested Butte has to offer. \n6 | 23  The Devil’s Horn: A Celebration of the Saxophone\n6 | 30  Quartz Alley Combo\n7 | 7    Acoustic Eidolon\n7 | 14   National Repertory Orchestra\n7 | 21   Hiroya Tsukamoto\n7 | 28   The CopyCats Concert\n8 | 4     Cowboy Songs\n8 | 11    Junwen Liang
URL:https://travelcrestedbutte.com/events-calendar/summer-classics-in-the-courtyard-chantil-and-the-dukes-of-art/2026-07-21/
LOCATION:Center for the Arts\, 606 6th St.\, Crested Butte\, CO\, 81224\, United States
CATEGORIES:Music
ATTACH;FMTTYPE=image/webp:https://travelcrestedbutte.com/wp-content/uploads/2025/05/summerclassicscourtyard-crested-butte.webp
GEO:38.8677015;-106.9800884
X-APPLE-STRUCTURED-LOCATION;VALUE=URI;X-ADDRESS=Center for the Arts 606 6th St. Crested Butte CO 81224 United States;X-APPLE-RADIUS=500;X-TITLE=606 6th St.:geo:-106.9800884,38.8677015
END:VEVENT
BEGIN:VEVENT
DTSTART;TZID=America/Denver:20260728T173000
DTEND;TZID=America/Denver:20260728T193000
DTSTAMP:20260423T162824
CREATED:20250515T182041Z
LAST-MODIFIED:20260423T154556Z
UID:10005511-1785259800-1785267000@travelcrestedbutte.com
SUMMARY:Summer Classics in the Courtyard
DESCRIPTION:The Center for the Arts presents Summer Classics\, a free outdoor concert series takes place Tuesday evenings at 5:30pm from mid-June through mid-August in the Center’s Feldberg Courtyard. \nWith Crested Butte Mountain and Paradise Divide as the backdrop\, it’s the perfect respite to enjoy the sounds of a variety of music\, surrounded by family and friends. Chairs are provided. Snacks (or a complete picnic) and non-alcoholic beverages are welcome. Join friends and family as we enjoy the best that summer in Crested Butte has to offer. \n6 | 23  The Devil’s Horn: A Celebration of the Saxophone\n6 | 30  Quartz Alley Combo\n7 | 7    Acoustic Eidolon\n7 | 14   National Repertory Orchestra\n7 | 21   Hiroya Tsukamoto\n7 | 28   The CopyCats Concert\n8 | 4     Cowboy Songs\n8 | 11    Junwen Liang
URL:https://travelcrestedbutte.com/events-calendar/summer-classics-in-the-courtyard-chantil-and-the-dukes-of-art/2026-07-28/
LOCATION:Center for the Arts\, 606 6th St.\, Crested Butte\, CO\, 81224\, United States
CATEGORIES:Music
ATTACH;FMTTYPE=image/webp:https://travelcrestedbutte.com/wp-content/uploads/2025/05/summerclassicscourtyard-crested-butte.webp
GEO:38.8677015;-106.9800884
X-APPLE-STRUCTURED-LOCATION;VALUE=URI;X-ADDRESS=Center for the Arts 606 6th St. Crested Butte CO 81224 United States;X-APPLE-RADIUS=500;X-TITLE=606 6th St.:geo:-106.9800884,38.8677015
END:VEVENT
BEGIN:VEVENT
DTSTART;TZID=America/Denver:20260804T173000
DTEND;TZID=America/Denver:20260804T193000
DTSTAMP:20260423T162824
CREATED:20250515T182041Z
LAST-MODIFIED:20260423T154556Z
UID:10005512-1785864600-1785871800@travelcrestedbutte.com
SUMMARY:Summer Classics in the Courtyard
DESCRIPTION:The Center for the Arts presents Summer Classics\, a free outdoor concert series takes place Tuesday evenings at 5:30pm from mid-June through mid-August in the Center’s Feldberg Courtyard. \nWith Crested Butte Mountain and Paradise Divide as the backdrop\, it’s the perfect respite to enjoy the sounds of a variety of music\, surrounded by family and friends. Chairs are provided. Snacks (or a complete picnic) and non-alcoholic beverages are welcome. Join friends and family as we enjoy the best that summer in Crested Butte has to offer. \n6 | 23  The Devil’s Horn: A Celebration of the Saxophone\n6 | 30  Quartz Alley Combo\n7 | 7    Acoustic Eidolon\n7 | 14   National Repertory Orchestra\n7 | 21   Hiroya Tsukamoto\n7 | 28   The CopyCats Concert\n8 | 4     Cowboy Songs\n8 | 11    Junwen Liang
URL:https://travelcrestedbutte.com/events-calendar/summer-classics-in-the-courtyard-chantil-and-the-dukes-of-art/2026-08-04/
LOCATION:Center for the Arts\, 606 6th St.\, Crested Butte\, CO\, 81224\, United States
CATEGORIES:Music
ATTACH;FMTTYPE=image/webp:https://travelcrestedbutte.com/wp-content/uploads/2025/05/summerclassicscourtyard-crested-butte.webp
GEO:38.8677015;-106.9800884
X-APPLE-STRUCTURED-LOCATION;VALUE=URI;X-ADDRESS=Center for the Arts 606 6th St. Crested Butte CO 81224 United States;X-APPLE-RADIUS=500;X-TITLE=606 6th St.:geo:-106.9800884,38.8677015
END:VEVENT
BEGIN:VEVENT
DTSTART;TZID=America/Denver:20260811T173000
DTEND;TZID=America/Denver:20260811T193000
DTSTAMP:20260423T162824
CREATED:20250515T182041Z
LAST-MODIFIED:20260423T154556Z
UID:10005513-1786469400-1786476600@travelcrestedbutte.com
SUMMARY:Summer Classics in the Courtyard
DESCRIPTION:The Center for the Arts presents Summer Classics\, a free outdoor concert series takes place Tuesday evenings at 5:30pm from mid-June through mid-August in the Center’s Feldberg Courtyard. \nWith Crested Butte Mountain and Paradise Divide as the backdrop\, it’s the perfect respite to enjoy the sounds of a variety of music\, surrounded by family and friends. Chairs are provided. Snacks (or a complete picnic) and non-alcoholic beverages are welcome. Join friends and family as we enjoy the best that summer in Crested Butte has to offer. \n6 | 23  The Devil’s Horn: A Celebration of the Saxophone\n6 | 30  Quartz Alley Combo\n7 | 7    Acoustic Eidolon\n7 | 14   National Repertory Orchestra\n7 | 21   Hiroya Tsukamoto\n7 | 28   The CopyCats Concert\n8 | 4     Cowboy Songs\n8 | 11    Junwen Liang
URL:https://travelcrestedbutte.com/events-calendar/summer-classics-in-the-courtyard-chantil-and-the-dukes-of-art/2026-08-11/
LOCATION:Center for the Arts\, 606 6th St.\, Crested Butte\, CO\, 81224\, United States
CATEGORIES:Music
ATTACH;FMTTYPE=image/webp:https://travelcrestedbutte.com/wp-content/uploads/2025/05/summerclassicscourtyard-crested-butte.webp
GEO:38.8677015;-106.9800884
X-APPLE-STRUCTURED-LOCATION;VALUE=URI;X-ADDRESS=Center for the Arts 606 6th St. Crested Butte CO 81224 United States;X-APPLE-RADIUS=500;X-TITLE=606 6th St.:geo:-106.9800884,38.8677015
END:VEVENT
END:VCALENDAR