BEGIN:VCALENDAR
VERSION:2.0
PRODID:-//Travel Crested Butte - ECPv6.15.17.1//NONSGML v1.0//EN
CALSCALE:GREGORIAN
METHOD:PUBLISH
X-WR-CALNAME:Travel Crested Butte
X-ORIGINAL-URL:https://travelcrestedbutte.com
X-WR-CALDESC:Events for Travel Crested Butte
REFRESH-INTERVAL;VALUE=DURATION:PT1H
X-Robots-Tag:noindex
X-PUBLISHED-TTL:PT1H
BEGIN:VTIMEZONE
TZID:America/Denver
BEGIN:DAYLIGHT
TZOFFSETFROM:-0700
TZOFFSETTO:-0600
TZNAME:MDT
DTSTART:20250309T090000
END:DAYLIGHT
BEGIN:STANDARD
TZOFFSETFROM:-0600
TZOFFSETTO:-0700
TZNAME:MST
DTSTART:20251102T080000
END:STANDARD
BEGIN:DAYLIGHT
TZOFFSETFROM:-0700
TZOFFSETTO:-0600
TZNAME:MDT
DTSTART:20260308T090000
END:DAYLIGHT
BEGIN:STANDARD
TZOFFSETFROM:-0600
TZOFFSETTO:-0700
TZNAME:MST
DTSTART:20261101T080000
END:STANDARD
BEGIN:DAYLIGHT
TZOFFSETFROM:-0700
TZOFFSETTO:-0600
TZNAME:MDT
DTSTART:20270314T090000
END:DAYLIGHT
BEGIN:STANDARD
TZOFFSETFROM:-0600
TZOFFSETTO:-0700
TZNAME:MST
DTSTART:20271107T080000
END:STANDARD
END:VTIMEZONE
BEGIN:VEVENT
DTSTART;TZID=America/Denver:20260603T190000
DTEND;TZID=America/Denver:20260603T230000
DTSTAMP:20260424T070741
CREATED:20260423T151846Z
LAST-MODIFIED:20260423T151846Z
UID:10005495-1780513200-1780527600@travelcrestedbutte.com
SUMMARY:The String Cheese Incident - Sold Out
DESCRIPTION:For more than three decades\, The String Cheese Incident has been a driving force in live music\, known for their creative independence\, genre-blending sound\, and deeply devoted fan community. Pioneers of a grassroots approach to touring and fan engagement\, SCI has helped redefine how bands connect with audiences while remaining committed to philanthropy\, sustainability\, and musical exploration. Their high-energy live shows continue to set the standard for immersive concert experiences.
URL:https://travelcrestedbutte.com/events-calendar/the-string-cheese-incident-sold-out/2026-06-03/
LOCATION:Center for the Arts\, 606 6th St.\, Crested Butte\, CO\, 81224\, United States
CATEGORIES:Music
ATTACH;FMTTYPE=image/jpeg:https://travelcrestedbutte.com/wp-content/uploads/2026/04/stringcheese-crested-butte-copy.jpg
GEO:38.8677015;-106.9800884
X-APPLE-STRUCTURED-LOCATION;VALUE=URI;X-ADDRESS=Center for the Arts 606 6th St. Crested Butte CO 81224 United States;X-APPLE-RADIUS=500;X-TITLE=606 6th St.:geo:-106.9800884,38.8677015
END:VEVENT
BEGIN:VEVENT
DTSTART;TZID=America/Denver:20260604T190000
DTEND;TZID=America/Denver:20260604T230000
DTSTAMP:20260424T070741
CREATED:20260423T151846Z
LAST-MODIFIED:20260423T151846Z
UID:10005496-1780599600-1780614000@travelcrestedbutte.com
SUMMARY:The String Cheese Incident - Sold Out
DESCRIPTION:For more than three decades\, The String Cheese Incident has been a driving force in live music\, known for their creative independence\, genre-blending sound\, and deeply devoted fan community. Pioneers of a grassroots approach to touring and fan engagement\, SCI has helped redefine how bands connect with audiences while remaining committed to philanthropy\, sustainability\, and musical exploration. Their high-energy live shows continue to set the standard for immersive concert experiences.
URL:https://travelcrestedbutte.com/events-calendar/the-string-cheese-incident-sold-out/2026-06-04/
LOCATION:Center for the Arts\, 606 6th St.\, Crested Butte\, CO\, 81224\, United States
CATEGORIES:Music
ATTACH;FMTTYPE=image/jpeg:https://travelcrestedbutte.com/wp-content/uploads/2026/04/stringcheese-crested-butte-copy.jpg
GEO:38.8677015;-106.9800884
X-APPLE-STRUCTURED-LOCATION;VALUE=URI;X-ADDRESS=Center for the Arts 606 6th St. Crested Butte CO 81224 United States;X-APPLE-RADIUS=500;X-TITLE=606 6th St.:geo:-106.9800884,38.8677015
END:VEVENT
END:VCALENDAR