BEGIN:VCALENDAR
VERSION:2.0
PRODID:-//Travel Crested Butte - ECPv6.15.17.1//NONSGML v1.0//EN
CALSCALE:GREGORIAN
METHOD:PUBLISH
X-ORIGINAL-URL:https://travelcrestedbutte.com
X-WR-CALDESC:Events for Travel Crested Butte
REFRESH-INTERVAL;VALUE=DURATION:PT1H
X-Robots-Tag:noindex
X-PUBLISHED-TTL:PT1H
BEGIN:VTIMEZONE
TZID:America/Denver
BEGIN:DAYLIGHT
TZOFFSETFROM:-0700
TZOFFSETTO:-0600
TZNAME:MDT
DTSTART:20250309T090000
END:DAYLIGHT
BEGIN:STANDARD
TZOFFSETFROM:-0600
TZOFFSETTO:-0700
TZNAME:MST
DTSTART:20251102T080000
END:STANDARD
BEGIN:DAYLIGHT
TZOFFSETFROM:-0700
TZOFFSETTO:-0600
TZNAME:MDT
DTSTART:20260308T090000
END:DAYLIGHT
BEGIN:STANDARD
TZOFFSETFROM:-0600
TZOFFSETTO:-0700
TZNAME:MST
DTSTART:20261101T080000
END:STANDARD
BEGIN:DAYLIGHT
TZOFFSETFROM:-0700
TZOFFSETTO:-0600
TZNAME:MDT
DTSTART:20270314T090000
END:DAYLIGHT
BEGIN:STANDARD
TZOFFSETFROM:-0600
TZOFFSETTO:-0700
TZNAME:MST
DTSTART:20271107T080000
END:STANDARD
END:VTIMEZONE
BEGIN:VEVENT
DTSTART;TZID=America/Denver:20260920T090000
DTEND;TZID=America/Denver:20260920T140000
DTSTAMP:20260424T100558
CREATED:20260424T093536Z
LAST-MODIFIED:20260424T095152Z
UID:10005546-1789894800-1789912800@travelcrestedbutte.com
SUMMARY:Crested Butte Farmers Market
DESCRIPTION:The Crested Butte Farmer’s Market is held at 2nd and Elk Avenue every Sunday from summer into early fall. Stroll down the street and enjoy a variety of locally sourced foods\, drinks\, and other goods\, all while supporting local farmers and businesses. \nDedicated to promoting sustainable agriculture and farm-to-consumer sales within Crested Butte\, the Farmer’s Market offers organic and certified naturally grown vegetables\, fruits and herbs\, pasture-raised and grass-finished meats\, artisanal cheese\, wine\, hard ciders & juices\, breads\, pastries\, jams\, jellies\, pickles\, cut flowers\, as well as a wide assortment of locally produced arts and crafts. \nClick here for a list of vendors and non-profits. \n  \n 
URL:https://travelcrestedbutte.com/events-calendar/crested-butte-farmers-market-2-2/2026-09-20/
LOCATION:Elk Ave Farmers Market\, 200 Elk Ave\, Crested Butte\, 81224\, United States
CATEGORIES:Food & Drink
ATTACH;FMTTYPE=image/jpeg:https://travelcrestedbutte.com/wp-content/uploads/2025/04/Crested-Butte-Farmers-Market.jpg
GEO:38.8697636;-106.9874733
X-APPLE-STRUCTURED-LOCATION;VALUE=URI;X-ADDRESS=Elk Ave Farmers Market 200 Elk Ave Crested Butte 81224 United States;X-APPLE-RADIUS=500;X-TITLE=200 Elk Ave:geo:-106.9874733,38.8697636
END:VEVENT
BEGIN:VEVENT
DTSTART;TZID=America/Denver:20260927T090000
DTEND;TZID=America/Denver:20260927T140000
DTSTAMP:20260424T100558
CREATED:20260424T093536Z
LAST-MODIFIED:20260424T095152Z
UID:10005547-1790499600-1790517600@travelcrestedbutte.com
SUMMARY:Crested Butte Farmers Market
DESCRIPTION:The Crested Butte Farmer’s Market is held at 2nd and Elk Avenue every Sunday from summer into early fall. Stroll down the street and enjoy a variety of locally sourced foods\, drinks\, and other goods\, all while supporting local farmers and businesses. \nDedicated to promoting sustainable agriculture and farm-to-consumer sales within Crested Butte\, the Farmer’s Market offers organic and certified naturally grown vegetables\, fruits and herbs\, pasture-raised and grass-finished meats\, artisanal cheese\, wine\, hard ciders & juices\, breads\, pastries\, jams\, jellies\, pickles\, cut flowers\, as well as a wide assortment of locally produced arts and crafts. \nClick here for a list of vendors and non-profits. \n  \n 
URL:https://travelcrestedbutte.com/events-calendar/crested-butte-farmers-market-2-2/2026-09-27/
LOCATION:Elk Ave Farmers Market\, 200 Elk Ave\, Crested Butte\, 81224\, United States
CATEGORIES:Food & Drink
ATTACH;FMTTYPE=image/jpeg:https://travelcrestedbutte.com/wp-content/uploads/2025/04/Crested-Butte-Farmers-Market.jpg
GEO:38.8697636;-106.9874733
X-APPLE-STRUCTURED-LOCATION;VALUE=URI;X-ADDRESS=Elk Ave Farmers Market 200 Elk Ave Crested Butte 81224 United States;X-APPLE-RADIUS=500;X-TITLE=200 Elk Ave:geo:-106.9874733,38.8697636
END:VEVENT
BEGIN:VEVENT
DTSTART;TZID=America/Denver:20261003T120000
DTEND;TZID=America/Denver:20261003T160000
DTSTAMP:20260424T100558
CREATED:20240913T155605Z
LAST-MODIFIED:20260424T123126Z
UID:10003080-1791028800-1791043200@travelcrestedbutte.com
SUMMARY:Mt. Crested Butte Fall Festival & Pumpkin Patch
DESCRIPTION:The Town of Mt. Crested Butte invites the community to celebrate the 4th Annual Mt. Crested Butte Fall Festival\, taking place on Saturday\, October 3\, 2026\, from noon to 4 p.m. at the Ted Scheske Park & Mountain Wedding Garden. This free\, family-friendly event offers an afternoon full of autumn fun\, featuring live music\, a pumpkin patch\, cookie decorating\, face painting\, a bouncy house\, and more. \nKids’ activities are free\, and attendees can enjoy a complimentary beverage bar with alcoholic and non-alcoholic options. Food will be available for purchase from local food trucks.Attendees are reminded that non-service animals\, outside alcohol\, and weapons are not allowed at the event. \nFor questions or more information\, contact Event Manager Rebecca Gagne at (970) 349-6632 ext. 7\, or rgagne@mtcb.colorado.gov(opens in new window).
URL:https://travelcrestedbutte.com/events-calendar/mt-crested-butte-fall-festival-pumpkin-patch/
LOCATION:Mt. Crested Butte Wedding Garden\, 911 Gothic Rd\, Mt. Crested Butte\, CO\, 81225\, United States
CATEGORIES:Community Events,Music
ATTACH;FMTTYPE=image/jpeg:https://travelcrestedbutte.com/wp-content/uploads/2024/09/mt-crested-butte-fall-festival.jpg
GEO:38.9118601;-106.9658426
X-APPLE-STRUCTURED-LOCATION;VALUE=URI;X-ADDRESS=Mt. Crested Butte Wedding Garden 911 Gothic Rd Mt. Crested Butte CO 81225 United States;X-APPLE-RADIUS=500;X-TITLE=911 Gothic Rd:geo:-106.9658426,38.9118601
END:VEVENT
BEGIN:VEVENT
DTSTART;TZID=America/Denver:20261004T090000
DTEND;TZID=America/Denver:20261004T140000
DTSTAMP:20260424T100558
CREATED:20260424T093536Z
LAST-MODIFIED:20260424T095152Z
UID:10005548-1791104400-1791122400@travelcrestedbutte.com
SUMMARY:Crested Butte Farmers Market
DESCRIPTION:The Crested Butte Farmer’s Market is held at 2nd and Elk Avenue every Sunday from summer into early fall. Stroll down the street and enjoy a variety of locally sourced foods\, drinks\, and other goods\, all while supporting local farmers and businesses. \nDedicated to promoting sustainable agriculture and farm-to-consumer sales within Crested Butte\, the Farmer’s Market offers organic and certified naturally grown vegetables\, fruits and herbs\, pasture-raised and grass-finished meats\, artisanal cheese\, wine\, hard ciders & juices\, breads\, pastries\, jams\, jellies\, pickles\, cut flowers\, as well as a wide assortment of locally produced arts and crafts. \nClick here for a list of vendors and non-profits. \n  \n 
URL:https://travelcrestedbutte.com/events-calendar/crested-butte-farmers-market-2-2/2026-10-04/
LOCATION:Elk Ave Farmers Market\, 200 Elk Ave\, Crested Butte\, 81224\, United States
CATEGORIES:Food & Drink
ATTACH;FMTTYPE=image/jpeg:https://travelcrestedbutte.com/wp-content/uploads/2025/04/Crested-Butte-Farmers-Market.jpg
GEO:38.8697636;-106.9874733
X-APPLE-STRUCTURED-LOCATION;VALUE=URI;X-ADDRESS=Elk Ave Farmers Market 200 Elk Ave Crested Butte 81224 United States;X-APPLE-RADIUS=500;X-TITLE=200 Elk Ave:geo:-106.9874733,38.8697636
END:VEVENT
BEGIN:VEVENT
DTSTART;TZID=America/Denver:20261011T090000
DTEND;TZID=America/Denver:20261011T140000
DTSTAMP:20260424T100558
CREATED:20260424T093536Z
LAST-MODIFIED:20260424T095152Z
UID:10005549-1791709200-1791727200@travelcrestedbutte.com
SUMMARY:Crested Butte Farmers Market
DESCRIPTION:The Crested Butte Farmer’s Market is held at 2nd and Elk Avenue every Sunday from summer into early fall. Stroll down the street and enjoy a variety of locally sourced foods\, drinks\, and other goods\, all while supporting local farmers and businesses. \nDedicated to promoting sustainable agriculture and farm-to-consumer sales within Crested Butte\, the Farmer’s Market offers organic and certified naturally grown vegetables\, fruits and herbs\, pasture-raised and grass-finished meats\, artisanal cheese\, wine\, hard ciders & juices\, breads\, pastries\, jams\, jellies\, pickles\, cut flowers\, as well as a wide assortment of locally produced arts and crafts. \nClick here for a list of vendors and non-profits. \n  \n 
URL:https://travelcrestedbutte.com/events-calendar/crested-butte-farmers-market-2-2/2026-10-11/
LOCATION:Elk Ave Farmers Market\, 200 Elk Ave\, Crested Butte\, 81224\, United States
CATEGORIES:Food & Drink
ATTACH;FMTTYPE=image/jpeg:https://travelcrestedbutte.com/wp-content/uploads/2025/04/Crested-Butte-Farmers-Market.jpg
GEO:38.8697636;-106.9874733
X-APPLE-STRUCTURED-LOCATION;VALUE=URI;X-ADDRESS=Elk Ave Farmers Market 200 Elk Ave Crested Butte 81224 United States;X-APPLE-RADIUS=500;X-TITLE=200 Elk Ave:geo:-106.9874733,38.8697636
END:VEVENT
BEGIN:VEVENT
DTSTART;TZID=America/Denver:20261022T180000
DTEND;TZID=America/Denver:20261022T200000
DTSTAMP:20260424T100558
CREATED:20260424T080320Z
LAST-MODIFIED:20260424T080320Z
UID:10005519-1792692000-1792699200@travelcrestedbutte.com
SUMMARY:Cookbook Club: The Mountain Baker - 100 High-Altitude Recipes for Every Occasion
DESCRIPTION:Join us for a community potluck inspired by The Mountain Baker: 100 High-Altitude Recipes for Every Occasion by Mimi Council and Kimmy Fasani—two bakers who know mountain living inside and out. With recipes designed to rise (and shine!) at altitude\, this cookbook is perfect for our Crested Butte kitchens\, whether you’re whipping up après-ski treats\, weekend brunch\, or everyday breads and desserts. Pick up a copy at Townie Books or borrow ours\, sign up for a dish\, and bring your high-country creation to share. Together\, we’ll celebrate the joy of baking in the Butte—where the air is thin but the flavors are rich.\n  \nTickets & Info
URL:https://travelcrestedbutte.com/events-calendar/cookbook-club-the-mountain-baker-100-high-altitude-recipes-for-every-occasion/
LOCATION:Center for the Arts\, 606 6th St.\, Crested Butte\, CO\, 81224\, United States
CATEGORIES:Food & Drink
ATTACH;FMTTYPE=image/webp:https://travelcrestedbutte.com/wp-content/uploads/2025/04/cookbookclub-centerforthearts-crestedbutte.webp
GEO:38.8677015;-106.9800884
X-APPLE-STRUCTURED-LOCATION;VALUE=URI;X-ADDRESS=Center for the Arts 606 6th St. Crested Butte CO 81224 United States;X-APPLE-RADIUS=500;X-TITLE=606 6th St.:geo:-106.9800884,38.8677015
END:VEVENT
BEGIN:VEVENT
DTSTART;TZID=America/Denver:20261119T180000
DTEND;TZID=America/Denver:20261119T200000
DTSTAMP:20260424T100558
CREATED:20260424T080557Z
LAST-MODIFIED:20260424T080557Z
UID:10005520-1795111200-1795118400@travelcrestedbutte.com
SUMMARY:Cookbook Club: Sweet & Salty! King Arthur Baking Company's Cookbook for Young Bakers
DESCRIPTION:Calling all young bakers! Join us for a community potluck inspired by Sweet & Salty! : King Arthur Baking Company’s Cookbook for Young Bakers. This cookbook is packed with fun recipes that make it easy (and delicious!) to get creative in the kitchen. Pick up a copy at Townie Books or borrow ours\, sign up for a dish\, make it with your kiddo and bring your sweet or salty treat to share. We’ll trade goodies\, taste each other’s creations\, and celebrate the joy of baking together! \n*A parent must attend if the kiddo is under the age of 13. Please make sure you purchase the correct number of tickets to include both parent and child.  \nTickets & Info
URL:https://travelcrestedbutte.com/events-calendar/cookbook-club-sweet-salty-king-arthur-baking-companys-cookbook-for-young-bakers/
LOCATION:Center for the Arts\, 606 6th St.\, Crested Butte\, CO\, 81224\, United States
CATEGORIES:Food & Drink
ATTACH;FMTTYPE=image/webp:https://travelcrestedbutte.com/wp-content/uploads/2025/04/cookbookclub-centerforthearts-crestedbutte.webp
GEO:38.8677015;-106.9800884
X-APPLE-STRUCTURED-LOCATION;VALUE=URI;X-ADDRESS=Center for the Arts 606 6th St. Crested Butte CO 81224 United States;X-APPLE-RADIUS=500;X-TITLE=606 6th St.:geo:-106.9800884,38.8677015
END:VEVENT
END:VCALENDAR