BEGIN:VCALENDAR
VERSION:2.0
PRODID:-//Travel Crested Butte - ECPv6.15.17.1//NONSGML v1.0//EN
CALSCALE:GREGORIAN
METHOD:PUBLISH
X-WR-CALNAME:Travel Crested Butte
X-ORIGINAL-URL:https://travelcrestedbutte.com
X-WR-CALDESC:Events for Travel Crested Butte
REFRESH-INTERVAL;VALUE=DURATION:PT1H
X-Robots-Tag:noindex
X-PUBLISHED-TTL:PT1H
BEGIN:VTIMEZONE
TZID:America/Denver
BEGIN:DAYLIGHT
TZOFFSETFROM:-0700
TZOFFSETTO:-0600
TZNAME:MDT
DTSTART:20250309T090000
END:DAYLIGHT
BEGIN:STANDARD
TZOFFSETFROM:-0600
TZOFFSETTO:-0700
TZNAME:MST
DTSTART:20251102T080000
END:STANDARD
BEGIN:DAYLIGHT
TZOFFSETFROM:-0700
TZOFFSETTO:-0600
TZNAME:MDT
DTSTART:20260308T090000
END:DAYLIGHT
BEGIN:STANDARD
TZOFFSETFROM:-0600
TZOFFSETTO:-0700
TZNAME:MST
DTSTART:20261101T080000
END:STANDARD
BEGIN:DAYLIGHT
TZOFFSETFROM:-0700
TZOFFSETTO:-0600
TZNAME:MDT
DTSTART:20270314T090000
END:DAYLIGHT
BEGIN:STANDARD
TZOFFSETFROM:-0600
TZOFFSETTO:-0700
TZNAME:MST
DTSTART:20271107T080000
END:STANDARD
END:VTIMEZONE
BEGIN:VEVENT
DTSTART;TZID=America/Denver:20260902T120000
DTEND;TZID=America/Denver:20260902T130000
DTSTAMP:20260424T131317
CREATED:20260424T104250Z
LAST-MODIFIED:20260424T104448Z
UID:10005561-1788350400-1788354000@travelcrestedbutte.com
SUMMARY:Mt. CB Yoga at the Garden
DESCRIPTION:The Town of Mt. Crested Butte in partnership with the Crested Butte Community Yoga Co-op is excited to announce another summer of Yoga at the Garden. Join us every Wednesday from June 17 through September 16\, 2026\, from Noon to 1 pm in the Mountain Wedding Garden Pavilion for a FREE all-levels community yoga class! \nSome supplies will be provided\, but we encourage you to bring your own mat and water bottle. Please arrive early to allow yourself time to get settled in as class begins promptly at Noon. Donations to CB Yoga Coop are welcome. \n  \n 
URL:https://travelcrestedbutte.com/events-calendar/mt-cb-yoga-at-the-garden/2026-09-02/
LOCATION:Mt. Crested Butte Wedding G…\, 911 Gothic Rd\, Mt. Crested Butte\, CO\, 81225\, United States
CATEGORIES:Community Events
ATTACH;FMTTYPE=image/jpeg:https://travelcrestedbutte.com/wp-content/uploads/2026/04/mt-crested-butte-wedding-garden.jpg
GEO:38.9118601;-106.9658426
X-APPLE-STRUCTURED-LOCATION;VALUE=URI;X-ADDRESS=Mt. Crested Butte Wedding G… 911 Gothic Rd Mt. Crested Butte CO 81225 United States;X-APPLE-RADIUS=500;X-TITLE=911 Gothic Rd:geo:-106.9658426,38.9118601
END:VEVENT
BEGIN:VEVENT
DTSTART;TZID=America/Denver:20260905T100000
DTEND;TZID=America/Denver:20260905T170000
DTSTAMP:20260424T131317
CREATED:20220901T152427Z
LAST-MODIFIED:20260424T120033Z
UID:10005628-1788602400-1788627600@travelcrestedbutte.com
SUMMARY:Paragon Art Gallery's People's Fair
DESCRIPTION:The Paragon People’s Fair is a non-juried arts and crafts festival that helps regional Colorado artist showcase their artwork. It is a two-day event held down the middle of Elk Avenue on Labor Day weekend. \nFeaturing live music\, food venders\, an adjacent Farmers market on Sunday as well as many fine restaurants along Elk Avenue. Also expect sidewalk sales held by the local stores\, Nature’s Educators birds of prey and reptiles\, a dog show hosted by Oh Be Dogful Rescue\, and tons of fun to be had in the mountain sunshine. Come join the festivities and a community truly invested in enjoying the little things in life.
URL:https://travelcrestedbutte.com/events-calendar/peoples-fair/2026-09-05/
LOCATION:Elk Avenue\,  \, Crested Butte\, 81224\, United States
CATEGORIES:The Arts
ATTACH;FMTTYPE=image/jpeg:https://travelcrestedbutte.com/wp-content/uploads/2022/09/peoplefair.jpg
END:VEVENT
BEGIN:VEVENT
DTSTART;TZID=America/Denver:20260906T090000
DTEND;TZID=America/Denver:20260906T140000
DTSTAMP:20260424T131317
CREATED:20260424T093536Z
LAST-MODIFIED:20260424T095152Z
UID:10005544-1788685200-1788703200@travelcrestedbutte.com
SUMMARY:Crested Butte Farmers Market
DESCRIPTION:The Crested Butte Farmer’s Market is held at 2nd and Elk Avenue every Sunday from summer into early fall. Stroll down the street and enjoy a variety of locally sourced foods\, drinks\, and other goods\, all while supporting local farmers and businesses. \nDedicated to promoting sustainable agriculture and farm-to-consumer sales within Crested Butte\, the Farmer’s Market offers organic and certified naturally grown vegetables\, fruits and herbs\, pasture-raised and grass-finished meats\, artisanal cheese\, wine\, hard ciders & juices\, breads\, pastries\, jams\, jellies\, pickles\, cut flowers\, as well as a wide assortment of locally produced arts and crafts. \nClick here for a list of vendors and non-profits. \n  \n 
URL:https://travelcrestedbutte.com/events-calendar/crested-butte-farmers-market-2-2/2026-09-06/
LOCATION:Elk Ave Farmers Market\, 200 Elk Ave\, Crested Butte\, 81224\, United States
CATEGORIES:Food & Drink
ATTACH;FMTTYPE=image/jpeg:https://travelcrestedbutte.com/wp-content/uploads/2025/04/Crested-Butte-Farmers-Market.jpg
GEO:38.8697636;-106.9874733
X-APPLE-STRUCTURED-LOCATION;VALUE=URI;X-ADDRESS=Elk Ave Farmers Market 200 Elk Ave Crested Butte 81224 United States;X-APPLE-RADIUS=500;X-TITLE=200 Elk Ave:geo:-106.9874733,38.8697636
END:VEVENT
BEGIN:VEVENT
DTSTART;TZID=America/Denver:20260906T100000
DTEND;TZID=America/Denver:20260906T160000
DTSTAMP:20260424T131317
CREATED:20220901T152427Z
LAST-MODIFIED:20260424T120033Z
UID:10005629-1788688800-1788710400@travelcrestedbutte.com
SUMMARY:Paragon Art Gallery's People's Fair
DESCRIPTION:The Paragon People’s Fair is a non-juried arts and crafts festival that helps regional Colorado artist showcase their artwork. It is a two-day event held down the middle of Elk Avenue on Labor Day weekend. \nFeaturing live music\, food venders\, an adjacent Farmers market on Sunday as well as many fine restaurants along Elk Avenue. Also expect sidewalk sales held by the local stores\, Nature’s Educators birds of prey and reptiles\, a dog show hosted by Oh Be Dogful Rescue\, and tons of fun to be had in the mountain sunshine. Come join the festivities and a community truly invested in enjoying the little things in life.
URL:https://travelcrestedbutte.com/events-calendar/peoples-fair/2026-09-06/
LOCATION:Elk Avenue\,  \, Crested Butte\, 81224\, United States
CATEGORIES:The Arts
ATTACH;FMTTYPE=image/jpeg:https://travelcrestedbutte.com/wp-content/uploads/2022/09/peoplefair.jpg
END:VEVENT
BEGIN:VEVENT
DTSTART;TZID=America/Denver:20260909T120000
DTEND;TZID=America/Denver:20260909T130000
DTSTAMP:20260424T131317
CREATED:20260424T104250Z
LAST-MODIFIED:20260424T104448Z
UID:10005562-1788955200-1788958800@travelcrestedbutte.com
SUMMARY:Mt. CB Yoga at the Garden
DESCRIPTION:The Town of Mt. Crested Butte in partnership with the Crested Butte Community Yoga Co-op is excited to announce another summer of Yoga at the Garden. Join us every Wednesday from June 17 through September 16\, 2026\, from Noon to 1 pm in the Mountain Wedding Garden Pavilion for a FREE all-levels community yoga class! \nSome supplies will be provided\, but we encourage you to bring your own mat and water bottle. Please arrive early to allow yourself time to get settled in as class begins promptly at Noon. Donations to CB Yoga Coop are welcome. \n  \n 
URL:https://travelcrestedbutte.com/events-calendar/mt-cb-yoga-at-the-garden/2026-09-09/
LOCATION:Mt. Crested Butte Wedding G…\, 911 Gothic Rd\, Mt. Crested Butte\, CO\, 81225\, United States
CATEGORIES:Community Events
ATTACH;FMTTYPE=image/jpeg:https://travelcrestedbutte.com/wp-content/uploads/2026/04/mt-crested-butte-wedding-garden.jpg
GEO:38.9118601;-106.9658426
X-APPLE-STRUCTURED-LOCATION;VALUE=URI;X-ADDRESS=Mt. Crested Butte Wedding G… 911 Gothic Rd Mt. Crested Butte CO 81225 United States;X-APPLE-RADIUS=500;X-TITLE=911 Gothic Rd:geo:-106.9658426,38.9118601
END:VEVENT
BEGIN:VEVENT
DTSTART;TZID=America/Denver:20260910T180000
DTEND;TZID=America/Denver:20260910T203000
DTSTAMP:20260424T131317
CREATED:20260424T091611Z
LAST-MODIFIED:20260424T091647Z
UID:10005530-1789063200-1789072200@travelcrestedbutte.com
SUMMARY:Off The Page: Mary Roach
DESCRIPTION:Join bestselling author Mary Roach for a witty and fascinating evening exploring the curious corners of science and the human experience. Known for turning the weird\, the wonderful\, and the often overlooked into laugh-out-loud storytelling\, Mary will share insights from her work\, her research process\, and the surprising places curiosity can lead. The evening will include a talk\, reading\, and audience Q&A. Optional book purchase of Mary’s latest work\, Replaceable You. \n  \nTickets & Info
URL:https://travelcrestedbutte.com/events-calendar/off-the-page-mary-roach/
LOCATION:Center for the Arts\, 606 6th St.\, Crested Butte\, CO\, 81224\, United States
CATEGORIES:The Arts
ATTACH;FMTTYPE=image/webp:https://travelcrestedbutte.com/wp-content/uploads/2026/04/off-the-page-mary-roach-crested-butte-colorado.webp
GEO:38.8677015;-106.9800884
X-APPLE-STRUCTURED-LOCATION;VALUE=URI;X-ADDRESS=Center for the Arts 606 6th St. Crested Butte CO 81224 United States;X-APPLE-RADIUS=500;X-TITLE=606 6th St.:geo:-106.9800884,38.8677015
END:VEVENT
BEGIN:VEVENT
DTSTART;TZID=America/Denver:20260912T113000
DTEND;TZID=America/Denver:20260912T163000
DTSTAMP:20260424T131317
CREATED:20140824T011013Z
LAST-MODIFIED:20260424T120826Z
UID:10000043-1789212600-1789230600@travelcrestedbutte.com
SUMMARY:2026 Mt. Crested Butte Chili & Beer Festival
DESCRIPTION:Tickets on Sale May 23 \n  \nJoin us in Mt. Crested Butte for a perfect pre-fall day of bold flavors\, crisp brews\, and mountain vibes at the 27th Annual Chili & Beer Festival. It’s our favorite way to say goodbye to summer and hello to sweater weather. \nEach year\, amateur and professional chili cooks and craft beverage makers from across the region come together for an epic culinary throwdown. Sample your way through red\, green\, vegetarian\, and specialty chilis\, then wash it all down with the best in beer\, cider\, seltzer\, and more all in the cool\, clean air of the Rockies. \nWhat to Expect\nAll day long\, enjoy the sounds of top-notch bluegrass bands performing live on the iconic Red Lady Stage. \n🌶️ Dozens of chili varieties: traditional and creative twists \n🍻 Craft beer\, cider\, seltzer & non-alcoholic tastings \n🎶 Live bluegrass music that’ll have you grooving \n🏆 Cash prizes\, bragging rights\, and crowd favorites \n⛰️ Stunning views and great company in Mt. CB \n  \n\nTransportation\nThere are numerous FREE transportation options so please refrain from drinking and driving. \nRTA: The final RTA bus running from Mt. Crested Butte to Gunnison\, with a stop at the Cement Creek Road\, leaves at 11:25 p.m. from Mt. Crested Butte and 11:33 p.m. from the Crested Butte 4-way Stop arriving ultimately in Gunnison. www.gunnisonvalleyrta.org. Free \nMountain Express:  Mountain Express buses run every 20 minutes between Crested Butte and the Mt. Crested Butte The last bus leaves Mt. Crested Butte at 12:00 am  www.mtnexp.org – Free \nFirstTracks Late Night Service: Runs between 10 p.m. and 2:30 a.m. Use the First Tracks App to request a ride ranging from $15 – $25 per passenger.. \nBlack Canyon Limo Private Rides: Catch a ride anywhere in the valley with online reservations with room for parties up to 13 people \n\nTIPS \nDrink water! A glass of water between every beer is a great way to stay happy\, hydrated\, and much less hungover. \nEat before you come or eat a few cups of chili before you start drinking. If you drink before you eat\, you’re gonna have a bad time. \nBe aware of your drinking limits. Please don’t have to make your friends carry you home. Drink responsibly. \n 
URL:https://travelcrestedbutte.com/events-calendar/crested-butte-chili-beer-festival/
LOCATION:Crested Butte Mountain Resort\, 10 Crested Butte Way\, Mt. Crested Butte\, CO\, 81225\, United States
CATEGORIES:Food & Drink
ATTACH;FMTTYPE=image/jpeg:https://travelcrestedbutte.com/wp-content/uploads/fall-festival-beer-chili-ls-18.jpg
GEO:38.899573;-106.9658
X-APPLE-STRUCTURED-LOCATION;VALUE=URI;X-ADDRESS=Crested Butte Mountain Resort 10 Crested Butte Way Mt. Crested Butte CO 81225 United States;X-APPLE-RADIUS=500;X-TITLE=10 Crested Butte Way:geo:-106.9658,38.899573
END:VEVENT
BEGIN:VEVENT
DTSTART;TZID=America/Denver:20260913T090000
DTEND;TZID=America/Denver:20260913T140000
DTSTAMP:20260424T131318
CREATED:20260424T093536Z
LAST-MODIFIED:20260424T095152Z
UID:10005545-1789290000-1789308000@travelcrestedbutte.com
SUMMARY:Crested Butte Farmers Market
DESCRIPTION:The Crested Butte Farmer’s Market is held at 2nd and Elk Avenue every Sunday from summer into early fall. Stroll down the street and enjoy a variety of locally sourced foods\, drinks\, and other goods\, all while supporting local farmers and businesses. \nDedicated to promoting sustainable agriculture and farm-to-consumer sales within Crested Butte\, the Farmer’s Market offers organic and certified naturally grown vegetables\, fruits and herbs\, pasture-raised and grass-finished meats\, artisanal cheese\, wine\, hard ciders & juices\, breads\, pastries\, jams\, jellies\, pickles\, cut flowers\, as well as a wide assortment of locally produced arts and crafts. \nClick here for a list of vendors and non-profits. \n  \n 
URL:https://travelcrestedbutte.com/events-calendar/crested-butte-farmers-market-2-2/2026-09-13/
LOCATION:Elk Ave Farmers Market\, 200 Elk Ave\, Crested Butte\, 81224\, United States
CATEGORIES:Food & Drink
ATTACH;FMTTYPE=image/jpeg:https://travelcrestedbutte.com/wp-content/uploads/2025/04/Crested-Butte-Farmers-Market.jpg
GEO:38.8697636;-106.9874733
X-APPLE-STRUCTURED-LOCATION;VALUE=URI;X-ADDRESS=Elk Ave Farmers Market 200 Elk Ave Crested Butte 81224 United States;X-APPLE-RADIUS=500;X-TITLE=200 Elk Ave:geo:-106.9874733,38.8697636
END:VEVENT
BEGIN:VEVENT
DTSTART;TZID=America/Denver:20260916T120000
DTEND;TZID=America/Denver:20260916T130000
DTSTAMP:20260424T131318
CREATED:20260424T104250Z
LAST-MODIFIED:20260424T104448Z
UID:10005563-1789560000-1789563600@travelcrestedbutte.com
SUMMARY:Mt. CB Yoga at the Garden
DESCRIPTION:The Town of Mt. Crested Butte in partnership with the Crested Butte Community Yoga Co-op is excited to announce another summer of Yoga at the Garden. Join us every Wednesday from June 17 through September 16\, 2026\, from Noon to 1 pm in the Mountain Wedding Garden Pavilion for a FREE all-levels community yoga class! \nSome supplies will be provided\, but we encourage you to bring your own mat and water bottle. Please arrive early to allow yourself time to get settled in as class begins promptly at Noon. Donations to CB Yoga Coop are welcome. \n  \n 
URL:https://travelcrestedbutte.com/events-calendar/mt-cb-yoga-at-the-garden/2026-09-16/
LOCATION:Mt. Crested Butte Wedding G…\, 911 Gothic Rd\, Mt. Crested Butte\, CO\, 81225\, United States
CATEGORIES:Community Events
ATTACH;FMTTYPE=image/jpeg:https://travelcrestedbutte.com/wp-content/uploads/2026/04/mt-crested-butte-wedding-garden.jpg
GEO:38.9118601;-106.9658426
X-APPLE-STRUCTURED-LOCATION;VALUE=URI;X-ADDRESS=Mt. Crested Butte Wedding G… 911 Gothic Rd Mt. Crested Butte CO 81225 United States;X-APPLE-RADIUS=500;X-TITLE=911 Gothic Rd:geo:-106.9658426,38.9118601
END:VEVENT
BEGIN:VEVENT
DTSTART;TZID=America/Denver:20260917T180000
DTEND;TZID=America/Denver:20260917T200000
DTSTAMP:20260424T131318
CREATED:20260424T080033Z
LAST-MODIFIED:20260424T080740Z
UID:10005518-1789668000-1789675200@travelcrestedbutte.com
SUMMARY:Cookbook Club: Let’s Stay In
DESCRIPTION:Settle in for a cozy community potluck inspired by Let’s Stay In: More than 120 Recipes to Nourish the People You Love by Ashley Rodriguez! This cookbook is all about slowing down\, gathering with friends\, and savoring meals that make an ordinary night feel special. From comforting mains to shareable sides\, these recipes are designed for connection around the table. Pick up a copy at Townie Books or borrow ours\, sign up for a dish\, and bring your creation to share. Together\, we’ll enjoy the simple pleasure of good food and even better company.\n  \nTickets & Info
URL:https://travelcrestedbutte.com/events-calendar/cookbook-club-lets-stay-in/
LOCATION:Center for the Arts\, 606 6th St.\, Crested Butte\, CO\, 81224\, United States
CATEGORIES:Food & Drink
ATTACH;FMTTYPE=image/webp:https://travelcrestedbutte.com/wp-content/uploads/2025/04/cookbookclub-centerforthearts-crestedbutte.webp
GEO:38.8677015;-106.9800884
X-APPLE-STRUCTURED-LOCATION;VALUE=URI;X-ADDRESS=Center for the Arts 606 6th St. Crested Butte CO 81224 United States;X-APPLE-RADIUS=500;X-TITLE=606 6th St.:geo:-106.9800884,38.8677015
END:VEVENT
BEGIN:VEVENT
DTSTART;TZID=America/Denver:20260920T090000
DTEND;TZID=America/Denver:20260920T140000
DTSTAMP:20260424T131318
CREATED:20260424T093536Z
LAST-MODIFIED:20260424T095152Z
UID:10005546-1789894800-1789912800@travelcrestedbutte.com
SUMMARY:Crested Butte Farmers Market
DESCRIPTION:The Crested Butte Farmer’s Market is held at 2nd and Elk Avenue every Sunday from summer into early fall. Stroll down the street and enjoy a variety of locally sourced foods\, drinks\, and other goods\, all while supporting local farmers and businesses. \nDedicated to promoting sustainable agriculture and farm-to-consumer sales within Crested Butte\, the Farmer’s Market offers organic and certified naturally grown vegetables\, fruits and herbs\, pasture-raised and grass-finished meats\, artisanal cheese\, wine\, hard ciders & juices\, breads\, pastries\, jams\, jellies\, pickles\, cut flowers\, as well as a wide assortment of locally produced arts and crafts. \nClick here for a list of vendors and non-profits. \n  \n 
URL:https://travelcrestedbutte.com/events-calendar/crested-butte-farmers-market-2-2/2026-09-20/
LOCATION:Elk Ave Farmers Market\, 200 Elk Ave\, Crested Butte\, 81224\, United States
CATEGORIES:Food & Drink
ATTACH;FMTTYPE=image/jpeg:https://travelcrestedbutte.com/wp-content/uploads/2025/04/Crested-Butte-Farmers-Market.jpg
GEO:38.8697636;-106.9874733
X-APPLE-STRUCTURED-LOCATION;VALUE=URI;X-ADDRESS=Elk Ave Farmers Market 200 Elk Ave Crested Butte 81224 United States;X-APPLE-RADIUS=500;X-TITLE=200 Elk Ave:geo:-106.9874733,38.8697636
END:VEVENT
BEGIN:VEVENT
DTSTART;TZID=America/Denver:20260927T090000
DTEND;TZID=America/Denver:20260927T140000
DTSTAMP:20260424T131318
CREATED:20260424T093536Z
LAST-MODIFIED:20260424T095152Z
UID:10005547-1790499600-1790517600@travelcrestedbutte.com
SUMMARY:Crested Butte Farmers Market
DESCRIPTION:The Crested Butte Farmer’s Market is held at 2nd and Elk Avenue every Sunday from summer into early fall. Stroll down the street and enjoy a variety of locally sourced foods\, drinks\, and other goods\, all while supporting local farmers and businesses. \nDedicated to promoting sustainable agriculture and farm-to-consumer sales within Crested Butte\, the Farmer’s Market offers organic and certified naturally grown vegetables\, fruits and herbs\, pasture-raised and grass-finished meats\, artisanal cheese\, wine\, hard ciders & juices\, breads\, pastries\, jams\, jellies\, pickles\, cut flowers\, as well as a wide assortment of locally produced arts and crafts. \nClick here for a list of vendors and non-profits. \n  \n 
URL:https://travelcrestedbutte.com/events-calendar/crested-butte-farmers-market-2-2/2026-09-27/
LOCATION:Elk Ave Farmers Market\, 200 Elk Ave\, Crested Butte\, 81224\, United States
CATEGORIES:Food & Drink
ATTACH;FMTTYPE=image/jpeg:https://travelcrestedbutte.com/wp-content/uploads/2025/04/Crested-Butte-Farmers-Market.jpg
GEO:38.8697636;-106.9874733
X-APPLE-STRUCTURED-LOCATION;VALUE=URI;X-ADDRESS=Elk Ave Farmers Market 200 Elk Ave Crested Butte 81224 United States;X-APPLE-RADIUS=500;X-TITLE=200 Elk Ave:geo:-106.9874733,38.8697636
END:VEVENT
END:VCALENDAR